BEGIN:VCALENDAR
VERSION:2.0
PRODID:-//Flagler Sportfishing Club - ECPv6.15.20//NONSGML v1.0//EN
CALSCALE:GREGORIAN
METHOD:PUBLISH
X-WR-CALNAME:Flagler Sportfishing Club
X-ORIGINAL-URL:https://flaglersportfishing.com
X-WR-CALDESC:Events for Flagler Sportfishing Club
REFRESH-INTERVAL;VALUE=DURATION:PT1H
X-Robots-Tag:noindex
X-PUBLISHED-TTL:PT1H
BEGIN:VTIMEZONE
TZID:America/New_York
BEGIN:DAYLIGHT
TZOFFSETFROM:-0500
TZOFFSETTO:-0400
TZNAME:EDT
DTSTART:20250309T070000
END:DAYLIGHT
BEGIN:STANDARD
TZOFFSETFROM:-0400
TZOFFSETTO:-0500
TZNAME:EST
DTSTART:20251102T060000
END:STANDARD
BEGIN:DAYLIGHT
TZOFFSETFROM:-0500
TZOFFSETTO:-0400
TZNAME:EDT
DTSTART:20260308T070000
END:DAYLIGHT
BEGIN:STANDARD
TZOFFSETFROM:-0400
TZOFFSETTO:-0500
TZNAME:EST
DTSTART:20261101T060000
END:STANDARD
BEGIN:DAYLIGHT
TZOFFSETFROM:-0500
TZOFFSETTO:-0400
TZNAME:EDT
DTSTART:20270314T070000
END:DAYLIGHT
BEGIN:STANDARD
TZOFFSETFROM:-0400
TZOFFSETTO:-0500
TZNAME:EST
DTSTART:20271107T060000
END:STANDARD
END:VTIMEZONE
BEGIN:VEVENT
DTSTART;TZID=America/New_York:20260604T190000
DTEND;TZID=America/New_York:20260604T210000
DTSTAMP:20260421T105549
CREATED:20251226T034846Z
LAST-MODIFIED:20251226T034910Z
UID:29610-1780599600-1780606800@flaglersportfishing.com
SUMMARY:Club Meeting
DESCRIPTION:
URL:https://flaglersportfishing.com/event/club-meeting-7/
LOCATION:Club 51 at Social Club of Palm Coast\, 51 Old Kings Rd N\,\, Palm Coast\, FL\, 32137\, United States
CATEGORIES:Social Event
END:VEVENT
BEGIN:VEVENT
DTSTART;TZID=America/New_York:20260606T080000
DTEND;TZID=America/New_York:20260606T170000
DTSTAMP:20260421T105549
CREATED:20251226T035046Z
LAST-MODIFIED:20251226T035046Z
UID:29614-1780732800-1780765200@flaglersportfishing.com
SUMMARY:Public Kids Tournament
DESCRIPTION:
URL:https://flaglersportfishing.com/event/public-kids-tournament/
LOCATION:Bings Landing North\, 5862 N Ocean Shore Blvd\, Palm Coast\, FL\, 32137\, United States
CATEGORIES:kids4reel
END:VEVENT
BEGIN:VEVENT
DTSTART;TZID=America/New_York:20260620T080000
DTEND;TZID=America/New_York:20260620T170000
DTSTAMP:20260421T105549
CREATED:20251226T035150Z
LAST-MODIFIED:20251226T035150Z
UID:29616-1781942400-1781974800@flaglersportfishing.com
SUMMARY:Team Tournament
DESCRIPTION:
URL:https://flaglersportfishing.com/event/team-tournament/
LOCATION:Herschel King Park\, 1000 Grady Prather Jr. Cove\, Palm Coast\, FL\, 32137\, United States
CATEGORIES:Tournaments
END:VEVENT
END:VCALENDAR