BEGIN:VCALENDAR
VERSION:2.0
PRODID:-//Flagler Sportfishing Club - ECPv6.15.20//NONSGML v1.0//EN
CALSCALE:GREGORIAN
METHOD:PUBLISH
X-WR-CALNAME:Flagler Sportfishing Club
X-ORIGINAL-URL:https://flaglersportfishing.com
X-WR-CALDESC:Events for Flagler Sportfishing Club
REFRESH-INTERVAL;VALUE=DURATION:PT1H
X-Robots-Tag:noindex
X-PUBLISHED-TTL:PT1H
BEGIN:VTIMEZONE
TZID:America/New_York
BEGIN:DAYLIGHT
TZOFFSETFROM:-0500
TZOFFSETTO:-0400
TZNAME:EDT
DTSTART:20240310T070000
END:DAYLIGHT
BEGIN:STANDARD
TZOFFSETFROM:-0400
TZOFFSETTO:-0500
TZNAME:EST
DTSTART:20241103T060000
END:STANDARD
BEGIN:DAYLIGHT
TZOFFSETFROM:-0500
TZOFFSETTO:-0400
TZNAME:EDT
DTSTART:20250309T070000
END:DAYLIGHT
BEGIN:STANDARD
TZOFFSETFROM:-0400
TZOFFSETTO:-0500
TZNAME:EST
DTSTART:20251102T060000
END:STANDARD
BEGIN:DAYLIGHT
TZOFFSETFROM:-0500
TZOFFSETTO:-0400
TZNAME:EDT
DTSTART:20260308T070000
END:DAYLIGHT
BEGIN:STANDARD
TZOFFSETFROM:-0400
TZOFFSETTO:-0500
TZNAME:EST
DTSTART:20261101T060000
END:STANDARD
END:VTIMEZONE
BEGIN:VEVENT
DTSTART;VALUE=DATE:20250501
DTEND;VALUE=DATE:20250908
DTSTAMP:20260421T171043
CREATED:20250112T211134Z
LAST-MODIFIED:20250112T211134Z
UID:28504-1746057600-1757289599@flaglersportfishing.com
SUMMARY:Manatee Speed Zones in Effect
DESCRIPTION:
URL:https://flaglersportfishing.com/event/manatee-speed-zones-in-effect/
LOCATION:FL
END:VEVENT
BEGIN:VEVENT
DTSTART;VALUE=DATE:20250901
DTEND;VALUE=DATE:20250902
DTSTAMP:20260421T171043
CREATED:20250112T214338Z
LAST-MODIFIED:20250112T214338Z
UID:28541-1756684800-1756771199@flaglersportfishing.com
SUMMARY:Start Fish of the Month- Redfish
DESCRIPTION:
URL:https://flaglersportfishing.com/event/start-fish-of-the-month-redfish/
LOCATION:FL
CATEGORIES:Fish of The Month
END:VEVENT
BEGIN:VEVENT
DTSTART;TZID=America/New_York:20250904T190000
DTEND;TZID=America/New_York:20250904T210000
DTSTAMP:20260421T171043
CREATED:20250112T214509Z
LAST-MODIFIED:20250820T201422Z
UID:28545-1757012400-1757019600@flaglersportfishing.com
SUMMARY:Monthly Membership Meeting
DESCRIPTION:
URL:https://flaglersportfishing.com/event/monthly-membership-meeting-6/
LOCATION:Club 51 at Social Club of Palm Coast\, 51 Old Kings Rd N\,\, Palm Coast\, FL\, 32137\, United States
CATEGORIES:Monthly Club Meeting
END:VEVENT
BEGIN:VEVENT
DTSTART;TZID=America/New_York:20250920T060000
DTEND;TZID=America/New_York:20250920T150000
DTSTAMP:20260421T171043
CREATED:20250112T214611Z
LAST-MODIFIED:20250820T200713Z
UID:28547-1758348000-1758380400@flaglersportfishing.com
SUMMARY:Member Classic
DESCRIPTION:Sign-up and Pay\nIf you’re here just to see all the  fish\, please sign in here\n\n\n                \n                        \n                            Members Just for Food if not fishing\n                             \n                        \n                        Name(Required)\n                            \n                            \n                                                    \n                                                    First\n                                                \n                            \n                            \n                                                    \n                                                    Last\n                                                \n                            \n                        Phone(Required)Email Address(Required)Club Member(Required)\n								\n								Yes\n							\n								\n								NO a $10.00 Guest fee\n							Club Members can attend Free. Guest can attend for a small fee of $10\, https://flaglersportfishing.com/product/guest-fee/Total In Your Party?(Required)1234Club Members can attend Free. Guest can attend for a small fee of $10\, \n          \n            \n            \n            \n            \n            \n            \n            \n            \n            \n            \n            \n            \n            \n        \n                        Δ \n                        \n\n 
URL:https://flaglersportfishing.com/event/member-classic/
LOCATION:Herschel King Park\, 1000 Grady Prather Jr. Cove\, Palm Coast\, FL\, 32137\, United States
CATEGORIES:Tournaments
END:VEVENT
BEGIN:VEVENT
DTSTART;VALUE=DATE:20250930
DTEND;VALUE=DATE:20251001
DTSTAMP:20260421T171043
CREATED:20250112T214415Z
LAST-MODIFIED:20250112T214415Z
UID:28543-1759190400-1759276799@flaglersportfishing.com
SUMMARY:End Fish of the Month- Redfish
DESCRIPTION:
URL:https://flaglersportfishing.com/event/end-fish-of-the-month-redfish/
LOCATION:FL
CATEGORIES:Fish of The Month
END:VEVENT
END:VCALENDAR