BEGIN:VCALENDAR
VERSION:2.0
PRODID:-//Flagler Sportfishing Club - ECPv6.15.20//NONSGML v1.0//EN
CALSCALE:GREGORIAN
METHOD:PUBLISH
X-WR-CALNAME:Flagler Sportfishing Club
X-ORIGINAL-URL:https://flaglersportfishing.com
X-WR-CALDESC:Events for Flagler Sportfishing Club
REFRESH-INTERVAL;VALUE=DURATION:PT1H
X-Robots-Tag:noindex
X-PUBLISHED-TTL:PT1H
BEGIN:VTIMEZONE
TZID:America/New_York
BEGIN:DAYLIGHT
TZOFFSETFROM:-0500
TZOFFSETTO:-0400
TZNAME:EDT
DTSTART:20240310T070000
END:DAYLIGHT
BEGIN:STANDARD
TZOFFSETFROM:-0400
TZOFFSETTO:-0500
TZNAME:EST
DTSTART:20241103T060000
END:STANDARD
BEGIN:DAYLIGHT
TZOFFSETFROM:-0500
TZOFFSETTO:-0400
TZNAME:EDT
DTSTART:20250309T070000
END:DAYLIGHT
BEGIN:STANDARD
TZOFFSETFROM:-0400
TZOFFSETTO:-0500
TZNAME:EST
DTSTART:20251102T060000
END:STANDARD
BEGIN:DAYLIGHT
TZOFFSETFROM:-0500
TZOFFSETTO:-0400
TZNAME:EDT
DTSTART:20260308T070000
END:DAYLIGHT
BEGIN:STANDARD
TZOFFSETFROM:-0400
TZOFFSETTO:-0500
TZNAME:EST
DTSTART:20261101T060000
END:STANDARD
END:VTIMEZONE
BEGIN:VEVENT
DTSTART;VALUE=DATE:20250501
DTEND;VALUE=DATE:20250908
DTSTAMP:20260421T192713
CREATED:20250112T211134Z
LAST-MODIFIED:20250112T211134Z
UID:28504-1746057600-1757289599@flaglersportfishing.com
SUMMARY:Manatee Speed Zones in Effect
DESCRIPTION:
URL:https://flaglersportfishing.com/event/manatee-speed-zones-in-effect/
LOCATION:FL
END:VEVENT
BEGIN:VEVENT
DTSTART;VALUE=DATE:20250701
DTEND;VALUE=DATE:20250702
DTSTAMP:20260421T192713
CREATED:20250112T213218Z
LAST-MODIFIED:20250112T213218Z
UID:28522-1751328000-1751414399@flaglersportfishing.com
SUMMARY:Start Fish of the Month- Flounder
DESCRIPTION:
URL:https://flaglersportfishing.com/event/start-fish-of-the-month-flounder/
LOCATION:FL
CATEGORIES:Fish of The Month
END:VEVENT
BEGIN:VEVENT
DTSTART;TZID=America/New_York:20250710T190000
DTEND;TZID=America/New_York:20250710T210000
DTSTAMP:20260421T192713
CREATED:20250112T213407Z
LAST-MODIFIED:20250621T172749Z
UID:28526-1752174000-1752181200@flaglersportfishing.com
SUMMARY:Monthly Membership Meeting
DESCRIPTION:
URL:https://flaglersportfishing.com/event/monthly-membership-meeting-4/
LOCATION:Club 51 at Social Club of Palm Coast\, 51 Old Kings Rd N\,\, Palm Coast\, FL\, 32137\, United States
CATEGORIES:Monthly Club Meeting
END:VEVENT
BEGIN:VEVENT
DTSTART;VALUE=DATE:20250711
DTEND;VALUE=DATE:20250713
DTSTAMP:20260421T192713
CREATED:20240619T114120Z
LAST-MODIFIED:20250619T201114Z
UID:27903-1752192000-1752364799@flaglersportfishing.com
SUMMARY:Red Snapper Tournament 2025
DESCRIPTION:Guest Entry Fee
URL:https://flaglersportfishing.com/event/red-snapper-tournament-2024/
LOCATION:FL
CATEGORIES:Tournaments
ATTACH;FMTTYPE=image/jpeg:https://flaglersportfishing.com/wp-content/uploads/2022/06/Red-Snapper-Michael-Baldwin-scaled.jpg
END:VEVENT
BEGIN:VEVENT
DTSTART;TZID=America/New_York:20250716T060000
DTEND;TZID=America/New_York:20250716T150000
DTSTAMP:20260421T192713
CREATED:20250112T213521Z
LAST-MODIFIED:20250619T203134Z
UID:28529-1752645600-1752678000@flaglersportfishing.com
SUMMARY:Club Tournament- Flounder
DESCRIPTION:Free Club Flounder Tournament (2)\n                            Register here for the Flounder Tournament \n                        \n                        Anglers First Name(Required)FirstAnglers Last Name(Required)LastPhone(Required)Email(Required)\n                            \n                        Tournament you are Registering for(Required)Flounder TournamentMonthly TournamentsAre You A Member(Required)YesNoMember Please Select Form The Following(Required)Yes FishingWeigh inVolunteeringGuest Angler?(Required)NOYes $20.00Non-Members/Guests are welcome with a donation of $20.00 each and must fish with a member..  Click on the link to pay for guest. https://flaglersportfishing.com/product/tournament-guest/  Guest Angler (First / Last Name )Non-Members/Guests are welcome with a donation of $20.00 each and must fish with a member..  Click on the link to pay for guest. https://flaglersportfishing.com/product/tournament-guest/  Names of People coming with you (n/a if none)(Required)   Add   RemovePlease list names of people who your bringing with you to the weigh-in. Family members are welcome and guests are too but need to pay a fee of $10 each.How Many in your Party(Required)1234Total people that will be attending the weigh-in with you. Need to know for amount of food to prepare.\n          \n            \n            \n            \n            \n            \n            \n            \n            \n            \n            \n            \n            \n            \n        \n                        Δ
URL:https://flaglersportfishing.com/event/club-tournament-flounder/
LOCATION:Bings Landing North\, 5862 N Ocean Shore Blvd\, Palm Coast\, FL\, 32137\, United States
CATEGORIES:Tournaments
END:VEVENT
BEGIN:VEVENT
DTSTART;VALUE=DATE:20250731
DTEND;VALUE=DATE:20250801
DTSTAMP:20260421T192713
CREATED:20250112T213305Z
LAST-MODIFIED:20250112T213305Z
UID:28524-1753920000-1754006399@flaglersportfishing.com
SUMMARY:End Fish of the Month- Flounder
DESCRIPTION:
URL:https://flaglersportfishing.com/event/end-fish-of-the-month-flounder/
LOCATION:FL
CATEGORIES:Fish of The Month
END:VEVENT
END:VCALENDAR