BEGIN:VCALENDAR
VERSION:2.0
PRODID:-//Flagler Sportfishing Club - ECPv6.15.20//NONSGML v1.0//EN
CALSCALE:GREGORIAN
METHOD:PUBLISH
X-ORIGINAL-URL:https://flaglersportfishing.com
X-WR-CALDESC:Events for Flagler Sportfishing Club
REFRESH-INTERVAL;VALUE=DURATION:PT1H
X-Robots-Tag:noindex
X-PUBLISHED-TTL:PT1H
BEGIN:VTIMEZONE
TZID:America/New_York
BEGIN:DAYLIGHT
TZOFFSETFROM:-0500
TZOFFSETTO:-0400
TZNAME:EDT
DTSTART:20240310T070000
END:DAYLIGHT
BEGIN:STANDARD
TZOFFSETFROM:-0400
TZOFFSETTO:-0500
TZNAME:EST
DTSTART:20241103T060000
END:STANDARD
BEGIN:DAYLIGHT
TZOFFSETFROM:-0500
TZOFFSETTO:-0400
TZNAME:EDT
DTSTART:20250309T070000
END:DAYLIGHT
BEGIN:STANDARD
TZOFFSETFROM:-0400
TZOFFSETTO:-0500
TZNAME:EST
DTSTART:20251102T060000
END:STANDARD
BEGIN:DAYLIGHT
TZOFFSETFROM:-0500
TZOFFSETTO:-0400
TZNAME:EDT
DTSTART:20260308T070000
END:DAYLIGHT
BEGIN:STANDARD
TZOFFSETFROM:-0400
TZOFFSETTO:-0500
TZNAME:EST
DTSTART:20261101T060000
END:STANDARD
BEGIN:DAYLIGHT
TZOFFSETFROM:-0500
TZOFFSETTO:-0400
TZNAME:EDT
DTSTART:20270314T070000
END:DAYLIGHT
BEGIN:STANDARD
TZOFFSETFROM:-0400
TZOFFSETTO:-0500
TZNAME:EST
DTSTART:20271107T060000
END:STANDARD
END:VTIMEZONE
BEGIN:VEVENT
DTSTART;VALUE=DATE:20250930
DTEND;VALUE=DATE:20251001
DTSTAMP:20260421T220253
CREATED:20250112T214415Z
LAST-MODIFIED:20250112T214415Z
UID:28543-1759190400-1759276799@flaglersportfishing.com
SUMMARY:End Fish of the Month- Redfish
DESCRIPTION:
URL:https://flaglersportfishing.com/event/end-fish-of-the-month-redfish/
CATEGORIES:Fish of The Month
END:VEVENT
BEGIN:VEVENT
DTSTART;VALUE=DATE:20251001
DTEND;VALUE=DATE:20251002
DTSTAMP:20260421T220253
CREATED:20250112T214645Z
LAST-MODIFIED:20250112T214645Z
UID:28549-1759276800-1759363199@flaglersportfishing.com
SUMMARY:Start Fish of the Month- Black Drum
DESCRIPTION:
URL:https://flaglersportfishing.com/event/start-fish-of-the-month-black-drum/
CATEGORIES:Fish of The Month
END:VEVENT
BEGIN:VEVENT
DTSTART;TZID=America/New_York:20251002T190000
DTEND;TZID=America/New_York:20251002T210000
DTSTAMP:20260421T220253
CREATED:20250112T214819Z
LAST-MODIFIED:20250112T214819Z
UID:28553-1759431600-1759438800@flaglersportfishing.com
SUMMARY:Monthly Membership Meeting
DESCRIPTION:
URL:https://flaglersportfishing.com/event/monthly-membership-meeting-7/
LOCATION:Club 51 at Social Club of Palm Coast\, 51 Old Kings Rd N\,\, Palm Coast\, FL\, 32137\, United States
CATEGORIES:Monthly Club Meeting
END:VEVENT
BEGIN:VEVENT
DTSTART;TZID=America/New_York:20251018T110000
DTEND;TZID=America/New_York:20251018T150000
DTSTAMP:20260421T220253
CREATED:20250112T214943Z
LAST-MODIFIED:20250911T203138Z
UID:28555-1760785200-1760799600@flaglersportfishing.com
SUMMARY:Club Picnic
DESCRIPTION:Picnic Signup\n                             \n                        \n                        First Name(Required)Last Name(Required)Email(Required)\n                            \n                        Phone(Required)Are You a Member(Required)YesNoMember Guest(Required)YesNo Members are free\, but the cost of members' guests is a $10.00 donation per guest. "  https://flaglersportfishing.com/product/guest-fee/Guest NameHow Many in Your Party(Required)12345What Dish Will Your be Bringing(Required)AppetizerSide DishSaladSection Break\n          \n            \n            \n            \n            \n            \n            \n            \n            \n            \n            \n            \n            \n            \n        \n                        Δ
URL:https://flaglersportfishing.com/event/club-picnic/
LOCATION:Herschel King Park\, 1000 Grady Prather Jr. Cove\, Palm Coast\, FL\, 32137\, United States
CATEGORIES:Social Event
END:VEVENT
BEGIN:VEVENT
DTSTART;TZID=America/New_York:20251025T063000
DTEND;TZID=America/New_York:20251025T150000
DTSTAMP:20260421T220253
CREATED:20250112T215103Z
LAST-MODIFIED:20251011T183603Z
UID:28557-1761373800-1761404400@flaglersportfishing.com
SUMMARY:Club Tournament- Catch\, Photo & Release
DESCRIPTION:Free Club CPRTournament\n                            Register here for the Flounder Tournament \n                        \n                        Anglers First Name(Required)FirstAnglers Last Name(Required)LastPhone(Required)Email(Required)\n                            \n                        Tournament you are Registering for(Required)CPR TournamentMonthly TournamentsAre You A Member(Required)YesNoMember Please Select Form The Following(Required)Yes FishingWeigh inVolunteeringGuest Angler?(Required)NOYes $20.00Non-Members/Guests are welcome with a donation of $20.00 each and must fish with a member..  Click on the link to pay for guest. https://flaglersportfishing.com/product/tournament-guest/  Guest Angler (First / Last Name )Non-Members/Guests are welcome with a donation of $20.00 each and must fish with a member..  Click on the link to pay for guest. https://flaglersportfishing.com/product/tournament-guest/  Names of People coming with you (n/a if none)(Required)   Add   RemovePlease list names of people who your bringing with you to the weigh-in. Family members are welcome and guests are too but need to pay a fee of $10 each.How Many in your Party(Required)1234Total people that will be attending the weigh-in with you. Need to know for amount of food to prepare.\n          \n            \n            \n            \n            \n            \n            \n            \n            \n            \n            \n            \n            \n            \n        \n                        Δ
URL:https://flaglersportfishing.com/event/club-tournament-catch-photo-release/
LOCATION:Bings Landing North\, 5862 N Ocean Shore Blvd\, Palm Coast\, FL\, 32137\, United States
CATEGORIES:Tournaments
END:VEVENT
BEGIN:VEVENT
DTSTART;VALUE=DATE:20251031
DTEND;VALUE=DATE:20251101
DTSTAMP:20260421T220253
CREATED:20250112T214718Z
LAST-MODIFIED:20250112T214718Z
UID:28551-1761868800-1761955199@flaglersportfishing.com
SUMMARY:End Fish of the Month- Black Drum
DESCRIPTION:
URL:https://flaglersportfishing.com/event/end-fish-of-the-month-black-drum/
CATEGORIES:Fish of The Month
END:VEVENT
BEGIN:VEVENT
DTSTART;VALUE=DATE:20251101
DTEND;VALUE=DATE:20251102
DTSTAMP:20260421T220253
CREATED:20250112T215145Z
LAST-MODIFIED:20250112T215145Z
UID:28559-1761955200-1762041599@flaglersportfishing.com
SUMMARY:Start Fish of the Month- Longest Legal CPR Fish
DESCRIPTION:
URL:https://flaglersportfishing.com/event/start-fish-of-the-month-longest-legal-cpr-fish/
CATEGORIES:Fish of The Month
END:VEVENT
BEGIN:VEVENT
DTSTART;TZID=America/New_York:20251106T190000
DTEND;TZID=America/New_York:20251106T210000
DTSTAMP:20260421T220253
CREATED:20250112T215309Z
LAST-MODIFIED:20251016T161347Z
UID:28563-1762455600-1762462800@flaglersportfishing.com
SUMMARY:Monthly Membership Meeting
DESCRIPTION:
URL:https://flaglersportfishing.com/event/monthly-membership-meeting-8/
LOCATION:Club 51 at Social Club of Palm Coast\, 51 Old Kings Rd N\,\, Palm Coast\, FL\, 32137\, United States
CATEGORIES:Monthly Club Meeting
END:VEVENT
BEGIN:VEVENT
DTSTART;TZID=America/New_York:20251122T060000
DTEND;TZID=America/New_York:20251122T150000
DTSTAMP:20260421T220253
CREATED:20250112T215411Z
LAST-MODIFIED:20251016T161655Z
UID:28565-1763791200-1763823600@flaglersportfishing.com
SUMMARY:Club Tournament- Red\, White & Blue
DESCRIPTION:Free Club Red White & Blue Tournament\n                            Register for Red White & Blue Tournament \n                        \n                        Anglers First Name(Required)FirstAnglers Last Name(Required)LastPhone(Required)Email(Required)\n                            \n                        Tournament you are Registering for(Required)Red\, White & Blue(November)Monthly TournamentsAre You A Member(Required)YesNoMember Please Select Form The Following(Required)Yes FishingWeigh inVolunteeringGuest Angler?(Required)NOYes $20.00Non-Members/Guests are welcome with a donation of $20.00 each and must fish with a member..  Click on the link to pay for guest. https://flaglersportfishing.com/product/tournament-guest/  Guest Angler (First / Last Name )Non-Members/Guests are welcome with a donation of $20.00 each and must fish with a member..  Click on the link to pay for guest. https://flaglersportfishing.com/product/tournament-guest/  Names of People coming with you (n/a if none)(Required)   Add   RemovePlease list names of people who you bringing with you to the weigh-in.Family members are welcome and you can have 1 guest free\, 2nd guest you have to pay a fee of $10.00 each.  Click on the link to pay guest.https://flaglersportfishing.com/product/guest-fee/How Many in your Party(Required)1234Total people that will be attending the weigh-in with you. Need to know for amount of food to prepare.\n          \n            \n            \n            \n            \n            \n            \n            \n            \n            \n            \n            \n            \n            \n        \n                        Δ \n                        \n\n 
URL:https://flaglersportfishing.com/event/club-tournament-red-white-blue/
LOCATION:Bings Landing North\, 5862 N Ocean Shore Blvd\, Palm Coast\, FL\, 32137\, United States
CATEGORIES:Tournaments
END:VEVENT
BEGIN:VEVENT
DTSTART;VALUE=DATE:20251130
DTEND;VALUE=DATE:20251201
DTSTAMP:20260421T220253
CREATED:20250112T215222Z
LAST-MODIFIED:20250112T215222Z
UID:28561-1764460800-1764547199@flaglersportfishing.com
SUMMARY:End Fish of the Month- Longest Legal CPR Fish
DESCRIPTION:
URL:https://flaglersportfishing.com/event/end-fish-of-the-month-longest-legal-cpr-fish/
CATEGORIES:Fish of The Month
END:VEVENT
BEGIN:VEVENT
DTSTART;VALUE=DATE:20251201
DTEND;VALUE=DATE:20251202
DTSTAMP:20260421T220253
CREATED:20250112T215442Z
LAST-MODIFIED:20250112T215442Z
UID:28567-1764547200-1764633599@flaglersportfishing.com
SUMMARY:Start Fish of the Month- Whiting
DESCRIPTION:
URL:https://flaglersportfishing.com/event/start-fish-of-the-month-whiting/
CATEGORIES:Fish of The Month
END:VEVENT
BEGIN:VEVENT
DTSTART;VALUE=DATE:20251204
DTEND;VALUE=DATE:20251205
DTSTAMP:20260421T220253
CREATED:20250112T215603Z
LAST-MODIFIED:20250112T215603Z
UID:28571-1764806400-1764892799@flaglersportfishing.com
SUMMARY:NO MEMBER MEETING
DESCRIPTION:
URL:https://flaglersportfishing.com/event/no-member-meeting/
CATEGORIES:Monthly Club Meeting
END:VEVENT
BEGIN:VEVENT
DTSTART;TZID=America/New_York:20251206T180000
DTEND;TZID=America/New_York:20251206T230000
DTSTAMP:20260421T220253
CREATED:20250112T215711Z
LAST-MODIFIED:20251125T014750Z
UID:28573-1765044000-1765062000@flaglersportfishing.com
SUMMARY:Club Annual Holiday Party  Canceled
DESCRIPTION:  \n 
URL:https://flaglersportfishing.com/event/club-christmas-party/
LOCATION:Club 51 at Social Club of Palm Coast\, 51 Old Kings Rd N\,\, Palm Coast\, FL\, 32137\, United States
CATEGORIES:Social Event
END:VEVENT
BEGIN:VEVENT
DTSTART;TZID=America/New_York:20251221T060000
DTEND;TZID=America/New_York:20251221T150000
DTSTAMP:20260421T220253
CREATED:20251222T000607Z
LAST-MODIFIED:20251222T000658Z
UID:29564-1766296800-1766329200@flaglersportfishing.com
SUMMARY:Black & Red Tournament
DESCRIPTION:
URL:https://flaglersportfishing.com/event/black-red-tournament/
LOCATION:Bings Landing North\, 5862 N Ocean Shore Blvd\, Palm Coast\, FL\, 32137\, United States
END:VEVENT
BEGIN:VEVENT
DTSTART;TZID=America/New_York:20251221T190000
DTEND;TZID=America/New_York:20251221T200000
DTSTAMP:20260421T220253
CREATED:20251222T000457Z
LAST-MODIFIED:20251222T000457Z
UID:29562-1766343600-1766347200@flaglersportfishing.com
SUMMARY:Chili Cook-Off
DESCRIPTION:
URL:https://flaglersportfishing.com/event/chili-cook-off/
LOCATION:Club 51 at Social Club of Palm Coast\, 51 Old Kings Rd N\,\, Palm Coast\, FL\, 32137\, United States
CATEGORIES:Social Event
END:VEVENT
BEGIN:VEVENT
DTSTART;TZID=America/New_York:20251225T080000
DTEND;TZID=America/New_York:20251225T170000
DTSTAMP:20260421T220253
CREATED:20251226T034940Z
LAST-MODIFIED:20251226T034940Z
UID:29612-1766649600-1766682000@flaglersportfishing.com
SUMMARY:Fish of The Month Snapper (Not Red)
DESCRIPTION:
URL:https://flaglersportfishing.com/event/fish-of-the-month-snapper-not-red/
CATEGORIES:Fish of The Month
END:VEVENT
BEGIN:VEVENT
DTSTART;TZID=America/New_York:20251225T080000
DTEND;TZID=America/New_York:20251225T170000
DTSTAMP:20260421T220253
CREATED:20251226T035401Z
LAST-MODIFIED:20251226T035401Z
UID:29620-1766649600-1766682000@flaglersportfishing.com
SUMMARY:Fish of The Month Flounder
DESCRIPTION:
URL:https://flaglersportfishing.com/event/fish-of-the-month-flounder/
CATEGORIES:Fish of The Month
END:VEVENT
BEGIN:VEVENT
DTSTART;TZID=America/New_York:20251225T080000
DTEND;TZID=America/New_York:20251225T170000
DTSTAMP:20260421T220253
CREATED:20251226T035746Z
LAST-MODIFIED:20251226T035746Z
UID:29628-1766649600-1766682000@flaglersportfishing.com
SUMMARY:Fish of The Month Spotted Sea Trout
DESCRIPTION:
URL:https://flaglersportfishing.com/event/fish-of-the-month-spotted-sea-trout/
CATEGORIES:Fish of The Month
END:VEVENT
BEGIN:VEVENT
DTSTART;TZID=America/New_York:20251226T190000
DTEND;TZID=America/New_York:20260402T210000
DTSTAMP:20260421T220253
CREATED:20251226T033538Z
LAST-MODIFIED:20251226T033538Z
UID:29592-1766775600-1775163600@flaglersportfishing.com
SUMMARY:Club Meeting
DESCRIPTION:
URL:https://flaglersportfishing.com/event/club-meeting-5/
CATEGORIES:Social Event
END:VEVENT
BEGIN:VEVENT
DTSTART;TZID=America/New_York:20251227T190000
DTEND;TZID=America/New_York:20251227T210000
DTSTAMP:20260421T220253
CREATED:20251227T162455Z
LAST-MODIFIED:20251227T162455Z
UID:29646-1766862000-1766869200@flaglersportfishing.com
SUMMARY:Club Meeting
DESCRIPTION:
URL:https://flaglersportfishing.com/event/club-meeting-12/
LOCATION:Club 51 at Social Club of Palm Coast\, 51 Old Kings Rd N\,\, Palm Coast\, FL\, 32137\, United States
CATEGORIES:Social Event
END:VEVENT
BEGIN:VEVENT
DTSTART;VALUE=DATE:20251231
DTEND;VALUE=DATE:20260101
DTSTAMP:20260421T220253
CREATED:20250112T215512Z
LAST-MODIFIED:20250112T215512Z
UID:28569-1767139200-1767225599@flaglersportfishing.com
SUMMARY:End Fish of the Month- Whiting
DESCRIPTION:
URL:https://flaglersportfishing.com/event/end-fish-of-the-month-whiting/
CATEGORIES:Fish of The Month
END:VEVENT
BEGIN:VEVENT
DTSTART;TZID=America/New_York:20260101T000000
DTEND;TZID=America/New_York:20260101T235900
DTSTAMP:20260421T220253
CREATED:20181223T131329Z
LAST-MODIFIED:20251221T235943Z
UID:2996-1767225600-1767311940@flaglersportfishing.com
SUMMARY:January Fish of the Month start  (Black Drum)
DESCRIPTION:How to catch Black Drum? go here. \n 
URL:https://flaglersportfishing.com/event/january-fish-of-the-month-black-drum/
CATEGORIES:Fish of The Month
END:VEVENT
BEGIN:VEVENT
DTSTART;TZID=America/New_York:20260108T190000
DTEND;TZID=America/New_York:20260108T210000
DTSTAMP:20260421T220253
CREATED:20251222T000317Z
LAST-MODIFIED:20260102T190651Z
UID:29560-1767898800-1767906000@flaglersportfishing.com
SUMMARY:Club Meeting
DESCRIPTION:
URL:https://flaglersportfishing.com/event/club-meeting/
LOCATION:Club 51 at Social Club of Palm Coast\, 51 Old Kings Rd N\,\, Palm Coast\, FL\, 32137\, United States
END:VEVENT
BEGIN:VEVENT
DTSTART;TZID=America/New_York:20260117T063000
DTEND;TZID=America/New_York:20260117T150000
DTSTAMP:20260421T220253
CREATED:20190113T143543Z
LAST-MODIFIED:20251228T144139Z
UID:3064-1768631400-1768662000@flaglersportfishing.com
SUMMARY:Free Club Black & Red Tournament
DESCRIPTION:Black and Red Tournament Signup Below:\n\n                \n                        \n                            Free Club Black & Red Tournament\n                            Register here for the Black & Red Tournament \n                        \n                        Anglers First Name(Required)FirstAnglers Last Name(Required)LastPhone(Required)Email(Required)\n                            \n                        Tournament you are Registering for(Required)Black & Red TournamentMonthly TournamentsAre You A Member(Required)YesNoMember Please Select Form The Following(Required)Yes FishingWeigh inVolunteeringGuest Angler?(Required)NOYes $20.00Non-Members/Guests are welcome with a donation of $20.00 each and must fish with a member..  Click on the link to pay for guest. https://flaglersportfishing.com/product/tournament-guest/  Guest Angler (First / Last Name )Non-Members/Guests are welcome with a donation of $20.00 each and must fish with a member..  Click on the link to pay for guest. https://flaglersportfishing.com/product/tournament-guest/  Names of People coming with you (n/a if none)(Required)   Add   RemovePlease list names of people who your bringing with you to the weigh-in. Family members are welcome and guests are too but need to pay a fee of $10 each.How Many in your Party(Required)1234Total people that will be attending the weigh-in with you. Need to know for amount of food to prepare.\n          \n            \n            \n            \n            \n            \n            \n            \n            \n            \n            \n            \n            \n            \n        \n                        Δ \n                        \n\n 
URL:https://flaglersportfishing.com/event/club-black-red-tournament/
LOCATION:Bings Landing North\, 5862 N Ocean Shore Blvd\, Palm Coast\, FL\, 32137\, United States
CATEGORIES:Tournaments
ATTACH;FMTTYPE=image/jpeg:https://flaglersportfishing.com/wp-content/uploads/2022/08/Tim.jpg
END:VEVENT
BEGIN:VEVENT
DTSTART;TZID=America/New_York:20260201T080000
DTEND;TZID=America/New_York:20260201T170000
DTSTAMP:20260421T220253
CREATED:20251222T120316Z
LAST-MODIFIED:20251222T120316Z
UID:29566-1769932800-1769965200@flaglersportfishing.com
SUMMARY:February Fish of The Month Sheepshead
DESCRIPTION:
URL:https://flaglersportfishing.com/event/february-fish-of-the-month-sheepshead/
CATEGORIES:Fish of The Month
END:VEVENT
BEGIN:VEVENT
DTSTART;TZID=America/New_York:20260205T190000
DTEND;TZID=America/New_York:20260205T210000
DTSTAMP:20260421T220253
CREATED:20251222T120453Z
LAST-MODIFIED:20260122T043135Z
UID:29569-1770318000-1770325200@flaglersportfishing.com
SUMMARY:Club Meeting
DESCRIPTION:
URL:https://flaglersportfishing.com/event/club-meeting-2/
CATEGORIES:Social Event
END:VEVENT
BEGIN:VEVENT
DTSTART;TZID=America/New_York:20260221T060000
DTEND;TZID=America/New_York:20260221T150000
DTSTAMP:20260421T220253
CREATED:20251222T120620Z
LAST-MODIFIED:20260122T041625Z
UID:29571-1771653600-1771686000@flaglersportfishing.com
SUMMARY:Sheepshead Tournament
DESCRIPTION:Free Club Tournament Sheepshead TournamentForm\n                            Register for Club Monthly Tournaments.THIS IS NOT FOR THE CLASSIC. Go here for the Classic. https://flaglersportfishing.com/event/spring-classic/ \n                        \n                        Anglers First Name(Required)FirstAnglers Last Name(Required)LastPhone(Required)Email(Required)\n                            \n                        Tournament you are Registering for(Required)Sheepshead TournamentMonthly TournamentsAre You A Member(Required)YesNoMember Please Select Form The Following(Required)Yes FishingWeigh inVolunteeringGuest Angler?(Required)NOYes $20.00Non-Members/Guests are welcome with a donation of $20.00 each and must fish with a member..  Click on the link to pay for guest. https://flaglersportfishing.com/product/tournament-guest/  Guest Angler (First / Last Name )Non-Members/Guests are welcome with a donation of $20.00 each and must fish with a member..  Click on the link to pay for guest. https://flaglersportfishing.com/product/tournament-guest/  Names of People coming with you (n/a if none)(Required)   Add   RemovePlease list names of people who your bringing with you to the weigh-in. Family members are welcome and guests are too but need to pay a fee of $10 each.How Many in your Party(Required)1234Total people that will be attending the weigh-in with you. Need to know for amount of food to prepare.\n          \n            \n            \n            \n            \n            \n            \n            \n            \n            \n            \n            \n            \n            \n        \n                        Δ
URL:https://flaglersportfishing.com/event/sheepshead-tournament/
LOCATION:Herschel King Park\, 1000 Grady Prather Jr. Cove\, Palm Coast\, FL\, 32137\, United States
CATEGORIES:Tournaments
END:VEVENT
BEGIN:VEVENT
DTSTART;TZID=America/New_York:20260228T080000
DTEND;TZID=America/New_York:20260228T170000
DTSTAMP:20260421T220253
CREATED:20251222T120751Z
LAST-MODIFIED:20260212T014105Z
UID:29573-1772265600-1772298000@flaglersportfishing.com
SUMMARY:Member Kids Clinic
DESCRIPTION:
URL:https://flaglersportfishing.com/event/member-kids-clinic/
LOCATION:Herschel King Park\, 1000 Grady Prather Jr. Cove\, Palm Coast\, FL\, 32137\, United States
CATEGORIES:Social Event
END:VEVENT
BEGIN:VEVENT
DTSTART;TZID=America/New_York:20260301T080000
DTEND;TZID=America/New_York:20260301T170000
DTSTAMP:20260421T220253
CREATED:20251222T121039Z
LAST-MODIFIED:20251222T121039Z
UID:29577-1772352000-1772384400@flaglersportfishing.com
SUMMARY:March Fish of The Month Blue Fish
DESCRIPTION:
URL:https://flaglersportfishing.com/event/march-fish-of-the-month-blue-fish/
CATEGORIES:Fish of The Month
END:VEVENT
BEGIN:VEVENT
DTSTART;TZID=America/New_York:20260305T190000
DTEND;TZID=America/New_York:20260305T210000
DTSTAMP:20260421T220253
CREATED:20251222T120914Z
LAST-MODIFIED:20251222T120936Z
UID:29575-1772737200-1772744400@flaglersportfishing.com
SUMMARY:Club Meeting
DESCRIPTION:
URL:https://flaglersportfishing.com/event/club-meeting-3/
LOCATION:Club 51 at Social Club of Palm Coast\, 51 Old Kings Rd N\,\, Palm Coast\, FL\, 32137\, United States
CATEGORIES:Monthly Club Meeting
END:VEVENT
END:VCALENDAR