BEGIN:VCALENDAR
VERSION:2.0
PRODID:-//Flagler Sportfishing Club - ECPv6.15.20//NONSGML v1.0//EN
CALSCALE:GREGORIAN
METHOD:PUBLISH
X-WR-CALNAME:Flagler Sportfishing Club
X-ORIGINAL-URL:https://flaglersportfishing.com
X-WR-CALDESC:Events for Flagler Sportfishing Club
REFRESH-INTERVAL;VALUE=DURATION:PT1H
X-Robots-Tag:noindex
X-PUBLISHED-TTL:PT1H
BEGIN:VTIMEZONE
TZID:America/New_York
BEGIN:DAYLIGHT
TZOFFSETFROM:-0500
TZOFFSETTO:-0400
TZNAME:EDT
DTSTART:20240310T070000
END:DAYLIGHT
BEGIN:STANDARD
TZOFFSETFROM:-0400
TZOFFSETTO:-0500
TZNAME:EST
DTSTART:20241103T060000
END:STANDARD
BEGIN:DAYLIGHT
TZOFFSETFROM:-0500
TZOFFSETTO:-0400
TZNAME:EDT
DTSTART:20250309T070000
END:DAYLIGHT
BEGIN:STANDARD
TZOFFSETFROM:-0400
TZOFFSETTO:-0500
TZNAME:EST
DTSTART:20251102T060000
END:STANDARD
BEGIN:DAYLIGHT
TZOFFSETFROM:-0500
TZOFFSETTO:-0400
TZNAME:EDT
DTSTART:20260308T070000
END:DAYLIGHT
BEGIN:STANDARD
TZOFFSETFROM:-0400
TZOFFSETTO:-0500
TZNAME:EST
DTSTART:20261101T060000
END:STANDARD
END:VTIMEZONE
BEGIN:VEVENT
DTSTART;TZID=America/New_York:20250510T090000
DTEND;TZID=America/New_York:20250510T120000
DTSTAMP:20260422T184132
CREATED:20250112T211656Z
LAST-MODIFIED:20250424T204522Z
UID:28508-1746867600-1746878400@flaglersportfishing.com
SUMMARY:Kids' Fishing Clinic
DESCRIPTION:
URL:https://flaglersportfishing.com/event/kids-fishing-clinic/
LOCATION:Herschel King Park\, 1000 Grady Prather Jr. Cove\, Palm Coast\, FL\, 32137\, United States
CATEGORIES:Clinic
END:VEVENT
BEGIN:VEVENT
DTSTART;TZID=America/New_York:20250501T190000
DTEND;TZID=America/New_York:20250501T210000
DTSTAMP:20260422T184132
CREATED:20250112T211434Z
LAST-MODIFIED:20250424T204310Z
UID:28506-1746126000-1746133200@flaglersportfishing.com
SUMMARY:Monthly Membership Meeting & Elections
DESCRIPTION:
URL:https://flaglersportfishing.com/event/monthly-membership-meeting-elections/
LOCATION:Club 51 at Social Club of Palm Coast\, 51 Old Kings Rd N\,\, Palm Coast\, FL\, 32137\, United States
CATEGORIES:Monthly Club Meeting
END:VEVENT
BEGIN:VEVENT
DTSTART;VALUE=DATE:20250501
DTEND;VALUE=DATE:20250908
DTSTAMP:20260422T184132
CREATED:20250112T211134Z
LAST-MODIFIED:20250112T211134Z
UID:28504-1746057600-1757289599@flaglersportfishing.com
SUMMARY:Manatee Speed Zones in Effect
DESCRIPTION:
URL:https://flaglersportfishing.com/event/manatee-speed-zones-in-effect/
LOCATION:FL
END:VEVENT
BEGIN:VEVENT
DTSTART;VALUE=DATE:20250501
DTEND;VALUE=DATE:20250502
DTSTAMP:20260422T184132
CREATED:20250112T210756Z
LAST-MODIFIED:20250112T210756Z
UID:28500-1746057600-1746143999@flaglersportfishing.com
SUMMARY:Start Fish of the Month- Amberjack
DESCRIPTION:
URL:https://flaglersportfishing.com/event/start-fish-of-the-month-amberjack/
LOCATION:FL
CATEGORIES:Fish of The Month
END:VEVENT
BEGIN:VEVENT
DTSTART;VALUE=DATE:20250430
DTEND;VALUE=DATE:20250501
DTSTAMP:20260422T184132
CREATED:20250112T210211Z
LAST-MODIFIED:20250112T210211Z
UID:28492-1745971200-1746057599@flaglersportfishing.com
SUMMARY:End Fish of the Month- Pompano
DESCRIPTION:
URL:https://flaglersportfishing.com/event/end-fish-of-the-month-pompano/
LOCATION:FL
CATEGORIES:Fish of The Month
END:VEVENT
END:VCALENDAR